BEGIN:VCALENDAR
VERSION:2.0
PRODID:-//Ecole Sainte Thérèse - ECPv6.15.20//NONSGML v1.0//EN
CALSCALE:GREGORIAN
METHOD:PUBLISH
X-WR-CALNAME:Ecole Sainte Thérèse
X-ORIGINAL-URL:https://www.sainte-therese-treillieres.fr
X-WR-CALDESC:Évènements pour Ecole Sainte Thérèse
REFRESH-INTERVAL;VALUE=DURATION:PT1H
X-Robots-Tag:noindex
X-PUBLISHED-TTL:PT1H
BEGIN:VTIMEZONE
TZID:Europe/Paris
BEGIN:DAYLIGHT
TZOFFSETFROM:+0100
TZOFFSETTO:+0200
TZNAME:CEST
DTSTART:20240331T010000
END:DAYLIGHT
BEGIN:STANDARD
TZOFFSETFROM:+0200
TZOFFSETTO:+0100
TZNAME:CET
DTSTART:20241027T010000
END:STANDARD
BEGIN:DAYLIGHT
TZOFFSETFROM:+0100
TZOFFSETTO:+0200
TZNAME:CEST
DTSTART:20250330T010000
END:DAYLIGHT
BEGIN:STANDARD
TZOFFSETFROM:+0200
TZOFFSETTO:+0100
TZNAME:CET
DTSTART:20251026T010000
END:STANDARD
BEGIN:DAYLIGHT
TZOFFSETFROM:+0100
TZOFFSETTO:+0200
TZNAME:CEST
DTSTART:20260329T010000
END:DAYLIGHT
BEGIN:STANDARD
TZOFFSETFROM:+0200
TZOFFSETTO:+0100
TZNAME:CET
DTSTART:20261025T010000
END:STANDARD
END:VTIMEZONE
BEGIN:VEVENT
DTSTART;VALUE=DATE:20250208
DTEND;VALUE=DATE:20250224
DTSTAMP:20260426T021912
CREATED:20210926T113758Z
LAST-MODIFIED:20241002T122136Z
UID:3767-1738972800-1740355199@www.sainte-therese-treillieres.fr
SUMMARY:Vacances d'Hiver ❄️
DESCRIPTION:
URL:https://www.sainte-therese-treillieres.fr/evenement/vacances-dhiver-4/
CATEGORIES:Vacances
END:VEVENT
END:VCALENDAR