BEGIN:VCALENDAR
VERSION:2.0
PRODID:-//Ecole Sainte Thérèse - ECPv6.15.20//NONSGML v1.0//EN
CALSCALE:GREGORIAN
METHOD:PUBLISH
X-ORIGINAL-URL:https://www.sainte-therese-treillieres.fr
X-WR-CALDESC:Évènements pour Ecole Sainte Thérèse
REFRESH-INTERVAL;VALUE=DURATION:PT1H
X-Robots-Tag:noindex
X-PUBLISHED-TTL:PT1H
BEGIN:VTIMEZONE
TZID:Europe/Paris
BEGIN:DAYLIGHT
TZOFFSETFROM:+0100
TZOFFSETTO:+0200
TZNAME:CEST
DTSTART:20240331T010000
END:DAYLIGHT
BEGIN:STANDARD
TZOFFSETFROM:+0200
TZOFFSETTO:+0100
TZNAME:CET
DTSTART:20241027T010000
END:STANDARD
BEGIN:DAYLIGHT
TZOFFSETFROM:+0100
TZOFFSETTO:+0200
TZNAME:CEST
DTSTART:20250330T010000
END:DAYLIGHT
BEGIN:STANDARD
TZOFFSETFROM:+0200
TZOFFSETTO:+0100
TZNAME:CET
DTSTART:20251026T010000
END:STANDARD
BEGIN:DAYLIGHT
TZOFFSETFROM:+0100
TZOFFSETTO:+0200
TZNAME:CEST
DTSTART:20260329T010000
END:DAYLIGHT
BEGIN:STANDARD
TZOFFSETFROM:+0200
TZOFFSETTO:+0100
TZNAME:CET
DTSTART:20261025T010000
END:STANDARD
END:VTIMEZONE
BEGIN:VEVENT
DTSTART;VALUE=DATE:20250327
DTEND;VALUE=DATE:20250328
DTSTAMP:20260425T225855
CREATED:20241002T122455Z
LAST-MODIFIED:20241002T122455Z
UID:5430-1743033600-1743119999@www.sainte-therese-treillieres.fr
SUMMARY:Carnaval 👗🥸
DESCRIPTION:
URL:https://www.sainte-therese-treillieres.fr/evenement/carnaval-%f0%9f%91%97%f0%9f%a5%b8/
LOCATION:Ecole Sainte-Thérèse\, 14 place de l'église\, TREILLIERES\, 44119\, France
CATEGORIES:Manifestations
END:VEVENT
BEGIN:VEVENT
DTSTART;TZID=Europe/Paris:20250329T083000
DTEND;TZID=Europe/Paris:20250329T120000
DTSTAMP:20260425T225855
CREATED:20221218T152920Z
LAST-MODIFIED:20241002T121446Z
UID:4480-1743237000-1743249600@www.sainte-therese-treillieres.fr
SUMMARY:Matinée travaux 🚧
DESCRIPTION:
URL:https://www.sainte-therese-treillieres.fr/evenement/matinee-travaux-15/
LOCATION:Ecole Sainte-Thérèse\, 14 place de l'église\, TREILLIERES\, 44119\, France
CATEGORIES:Matinées travaux,OGEC
END:VEVENT
END:VCALENDAR